BEGIN:VCALENDAR
VERSION:2.0
PRODID:-//Museum für sächsische Fahrzeuge Chemnitz - ECPv6.15.18//NONSGML v1.0//EN
CALSCALE:GREGORIAN
METHOD:PUBLISH
X-WR-CALNAME:Museum für sächsische Fahrzeuge Chemnitz
X-ORIGINAL-URL:https://fahrzeugmuseum-chemnitz.de
X-WR-CALDESC:Veranstaltungen für Museum für sächsische Fahrzeuge Chemnitz
REFRESH-INTERVAL;VALUE=DURATION:PT1H
X-Robots-Tag:noindex
X-PUBLISHED-TTL:PT1H
BEGIN:VTIMEZONE
TZID:Europe/Berlin
BEGIN:DAYLIGHT
TZOFFSETFROM:+0100
TZOFFSETTO:+0200
TZNAME:CEST
DTSTART:20180325T010000
END:DAYLIGHT
BEGIN:STANDARD
TZOFFSETFROM:+0200
TZOFFSETTO:+0100
TZNAME:CET
DTSTART:20181028T010000
END:STANDARD
BEGIN:DAYLIGHT
TZOFFSETFROM:+0100
TZOFFSETTO:+0200
TZNAME:CEST
DTSTART:20190331T010000
END:DAYLIGHT
BEGIN:STANDARD
TZOFFSETFROM:+0200
TZOFFSETTO:+0100
TZNAME:CET
DTSTART:20191027T010000
END:STANDARD
BEGIN:DAYLIGHT
TZOFFSETFROM:+0100
TZOFFSETTO:+0200
TZNAME:CEST
DTSTART:20200329T010000
END:DAYLIGHT
BEGIN:STANDARD
TZOFFSETFROM:+0200
TZOFFSETTO:+0100
TZNAME:CET
DTSTART:20201025T010000
END:STANDARD
END:VTIMEZONE
BEGIN:VEVENT
DTSTART;TZID=Europe/Berlin:20190511T180000
DTEND;TZID=Europe/Berlin:20190512T010000
DTSTAMP:20260421T140702
CREATED:20190224T144708Z
LAST-MODIFIED:20210317T072251Z
UID:5770-1557597600-1557622800@fahrzeugmuseum-chemnitz.de
SUMMARY:20. Chemnitzer Museumsnacht im Fahrzeugmuseum
DESCRIPTION:100 Jahre Bauhaus & Moderne in Sachsen sind dieses Jahr Themenschwerpunkt der Chemnitzer Museumsnacht. Wir möchten da das Sterngaragen-Gebäude und die neue SIMSON-Ausstellung in den Mittelpunkt rücken. \n20 Uhr wird im Museum die Geschichte der Hochgarage präsentiert. \nZwei Zweitaktbrüder werden über den Abend hinweg ein komplettes Simson-Mockik aus Einzelteilen montieren und sich dabei über die Schulter schauen lassen. \nDas musikalische Rahmenprogramm wechselt diesmal zwischen Acoustic Rock & Blues des Duos “Two From The Pack” und Schelllack-Konserve. \nNeben spannenden alten Filmaufnahmen und Oldtimern zum Selberbauen für Kinder ist natürlich auch für das leibliche Wohl gesorgt. \nPasst das Wetter\, werden wieder Fahrzeuge auf dem Hof vorgeführt. \nDas gesamte Programm findet sich unter diesem Link der Stadt Chemnitz zur Museumsnacht.
URL:https://fahrzeugmuseum-chemnitz.de/veranstaltung/20-chemnitzer-museumsnacht-im-fahrzeugmuseum/
LOCATION:Museum für sächsische Fahrzeuge Chemnitz e.V.\, Zwickauer Straße 77\, Chemnitz\, Sachsen\, 09112\, Deutschland
CATEGORIES:Museumsnacht
ATTACH;FMTTYPE=image/jpeg:https://fahrzeugmuseum-chemnitz.de/wp-content/uploads/2018/11/FMC-10.jpg
END:VEVENT
END:VCALENDAR