BEGIN:VCALENDAR
VERSION:2.0
PRODID:-//Museum für sächsische Fahrzeuge Chemnitz - ECPv6.15.18//NONSGML v1.0//EN
CALSCALE:GREGORIAN
METHOD:PUBLISH
X-WR-CALNAME:Museum für sächsische Fahrzeuge Chemnitz
X-ORIGINAL-URL:https://fahrzeugmuseum-chemnitz.de
X-WR-CALDESC:Veranstaltungen für Museum für sächsische Fahrzeuge Chemnitz
REFRESH-INTERVAL;VALUE=DURATION:PT1H
X-Robots-Tag:noindex
X-PUBLISHED-TTL:PT1H
BEGIN:VTIMEZONE
TZID:Europe/Berlin
BEGIN:DAYLIGHT
TZOFFSETFROM:+0100
TZOFFSETTO:+0200
TZNAME:CEST
DTSTART:20140330T010000
END:DAYLIGHT
BEGIN:STANDARD
TZOFFSETFROM:+0200
TZOFFSETTO:+0100
TZNAME:CET
DTSTART:20141026T010000
END:STANDARD
BEGIN:DAYLIGHT
TZOFFSETFROM:+0100
TZOFFSETTO:+0200
TZNAME:CEST
DTSTART:20150329T010000
END:DAYLIGHT
BEGIN:STANDARD
TZOFFSETFROM:+0200
TZOFFSETTO:+0100
TZNAME:CET
DTSTART:20151025T010000
END:STANDARD
BEGIN:DAYLIGHT
TZOFFSETFROM:+0100
TZOFFSETTO:+0200
TZNAME:CEST
DTSTART:20160327T010000
END:DAYLIGHT
BEGIN:STANDARD
TZOFFSETFROM:+0200
TZOFFSETTO:+0100
TZNAME:CET
DTSTART:20161030T010000
END:STANDARD
END:VTIMEZONE
BEGIN:VEVENT
DTSTART;VALUE=DATE:20150926
DTEND;VALUE=DATE:20150928
DTSTAMP:20260424T181238
CREATED:20150924T150355Z
LAST-MODIFIED:20210317T172755Z
UID:1837-1443225600-1443398399@fahrzeugmuseum-chemnitz.de
SUMMARY:6. Chemnitzer Tage der Industriekultur
DESCRIPTION:Vom 26. bis 27. September 2015 präsentieren sich auch die technikhistorischen Museen der Region im Rahmen der Chemnitzer Tage der Industriekultur. \nDirekt in der Innenstadt wird ein Markt im Stile der Gründerzeit gestaltet\, auf dem wir einige Exponate ausstellen werden. Auch die Diamant Fahrradwerke sind dort präsent. \nWer Klassiker in Aktion erleben möchte\, dem sei die “Show historischer Fahrzeuge” am Samstag Abend ab 20 Uhr auf dem Markt empfohlen. \nDas komplette Progamm findet sich auf diesen Seiten des Tourismus-Marketings \nAls Werbung für die Tage der der Industriekultur und unsere Diamant-Sonderausstellung nutzen wir schon seit einigen Tagen ein Schaufenster der Galerie Kaufhof\, direkt neben deren Haupteingang am Neumarkt. Dieses bietet besonders im Dunkeln einen schönen Anblick:
URL:https://fahrzeugmuseum-chemnitz.de/veranstaltung/6-chemnitzer-tage-der-industriekultur/
CATEGORIES:Veranstaltung
ATTACH;FMTTYPE=image/jpeg:https://fahrzeugmuseum-chemnitz.de/wp-content/uploads/2015/09/TdIK2015.jpg
END:VEVENT
END:VCALENDAR