BEGIN:VCALENDAR
VERSION:2.0
PRODID:-//Museum für sächsische Fahrzeuge Chemnitz - ECPv6.15.18//NONSGML v1.0//EN
CALSCALE:GREGORIAN
METHOD:PUBLISH
X-WR-CALNAME:Museum für sächsische Fahrzeuge Chemnitz
X-ORIGINAL-URL:https://fahrzeugmuseum-chemnitz.de
X-WR-CALDESC:Veranstaltungen für Museum für sächsische Fahrzeuge Chemnitz
REFRESH-INTERVAL;VALUE=DURATION:PT1H
X-Robots-Tag:noindex
X-PUBLISHED-TTL:PT1H
BEGIN:VTIMEZONE
TZID:Europe/Berlin
BEGIN:DAYLIGHT
TZOFFSETFROM:+0100
TZOFFSETTO:+0200
TZNAME:CEST
DTSTART:20150329T010000
END:DAYLIGHT
BEGIN:STANDARD
TZOFFSETFROM:+0200
TZOFFSETTO:+0100
TZNAME:CET
DTSTART:20151025T010000
END:STANDARD
BEGIN:DAYLIGHT
TZOFFSETFROM:+0100
TZOFFSETTO:+0200
TZNAME:CEST
DTSTART:20160327T010000
END:DAYLIGHT
BEGIN:STANDARD
TZOFFSETFROM:+0200
TZOFFSETTO:+0100
TZNAME:CET
DTSTART:20161030T010000
END:STANDARD
BEGIN:DAYLIGHT
TZOFFSETFROM:+0100
TZOFFSETTO:+0200
TZNAME:CEST
DTSTART:20170326T010000
END:DAYLIGHT
BEGIN:STANDARD
TZOFFSETFROM:+0200
TZOFFSETTO:+0100
TZNAME:CET
DTSTART:20171029T010000
END:STANDARD
END:VTIMEZONE
BEGIN:VEVENT
DTSTART;TZID=Europe/Berlin:20161002T100000
DTEND;TZID=Europe/Berlin:20161002T170000
DTSTAMP:20260419T152239
CREATED:20160701T142303Z
LAST-MODIFIED:20210316T150909Z
UID:2611-1475402400-1475427600@fahrzeugmuseum-chemnitz.de
SUMMARY:6. Seitenwagentreffen 2016
DESCRIPTION:Gespann & Motorradfahrertreffen am 02. Oktober 2016 ab 10 Uhr\n \nWenn man es erst einmal behrrscht\, bereiten wenige Fahrzeuge soviel Spaß\, wie ein Motorradgespann auf einer kurvigen Landstraße. Eine gute Gelegenheit für die Besitzer einer Beiwagenmaschine das wieder einmal zu probieren\, wäre die Fahrt zu uns am 2. Oktober. Fünf Mal haben die Leipziger Gespannfahrerfreunde rund um Claus Hüne bereits mit großem Zuspruch ein Treffen für historische Motorräder mit Seitenwagen organisiert.\nLeider steht das bisher genutzte ehemalige Gelände der Firma Fahrzeugbau Stoye in Leipzig nicht mehr zur Verfügung. Daher springen wir dieses Jahr in die Bresche und würden uns freuen\, wenn viele dreirädrige Klassiker aller Marken den Weg ans Chemnitzer Museum finden. \nDie typenoffne Veranstaltung ist als Treffen für Gleichgesinnte gedacht\, zum Erfahrungsaustausch; “Benzin reden” wie man so schön sagt. \nEs wird auch wieder Filme von den bisherigen Treffen und Infos rund um die Firma Stoye geben. Unter http://www.stoyeleipzig.de bekommt man einen guten Eindruck davon. \nAb 13 Uhr können die Fahrer Richtung Hohenstein-Ernstthal starten\, wo es Gelegenheit gibt\, das befreundete Textil- und Rennsportmuseum zu besuchen. Neben den Sportmotorrädern sind vor allem die großen Webstühle und Strickmaschinen für jeden Technikfreund ein Erlebnis\, besonders wenn sie in Betrieb gesetzt werden. \nAls PDF können Plakat und Handzettel mit einem Klick auf das Wort heruntergeladen werden.
URL:https://fahrzeugmuseum-chemnitz.de/veranstaltung/6-seitenwagentreffen-2016/
LOCATION:Museum für sächsische Fahrzeuge Chemnitz e.V.\, Zwickauer Straße 77\, Chemnitz\, Sachsen\, 09112\, Deutschland
CATEGORIES:Markentreffen
ATTACH;FMTTYPE=image/jpeg:https://fahrzeugmuseum-chemnitz.de/wp-content/uploads/2017/06/2xStoyetitel.jpg
END:VEVENT
END:VCALENDAR