BEGIN:VCALENDAR
VERSION:2.0
PRODID:-//Museum für sächsische Fahrzeuge Chemnitz - ECPv6.15.18//NONSGML v1.0//EN
CALSCALE:GREGORIAN
METHOD:PUBLISH
X-WR-CALNAME:Museum für sächsische Fahrzeuge Chemnitz
X-ORIGINAL-URL:https://fahrzeugmuseum-chemnitz.de
X-WR-CALDESC:Veranstaltungen für Museum für sächsische Fahrzeuge Chemnitz
REFRESH-INTERVAL;VALUE=DURATION:PT1H
X-Robots-Tag:noindex
X-PUBLISHED-TTL:PT1H
BEGIN:VTIMEZONE
TZID:Europe/Berlin
BEGIN:DAYLIGHT
TZOFFSETFROM:+0100
TZOFFSETTO:+0200
TZNAME:CEST
DTSTART:20240331T010000
END:DAYLIGHT
BEGIN:STANDARD
TZOFFSETFROM:+0200
TZOFFSETTO:+0100
TZNAME:CET
DTSTART:20241027T010000
END:STANDARD
BEGIN:DAYLIGHT
TZOFFSETFROM:+0100
TZOFFSETTO:+0200
TZNAME:CEST
DTSTART:20250330T010000
END:DAYLIGHT
BEGIN:STANDARD
TZOFFSETFROM:+0200
TZOFFSETTO:+0100
TZNAME:CET
DTSTART:20251026T010000
END:STANDARD
BEGIN:DAYLIGHT
TZOFFSETFROM:+0100
TZOFFSETTO:+0200
TZNAME:CEST
DTSTART:20260329T010000
END:DAYLIGHT
BEGIN:STANDARD
TZOFFSETFROM:+0200
TZOFFSETTO:+0100
TZNAME:CET
DTSTART:20261025T010000
END:STANDARD
END:VTIMEZONE
BEGIN:VEVENT
DTSTART;TZID=Europe/Berlin:20250914T100000
DTEND;TZID=Europe/Berlin:20250914T170000
DTSTAMP:20260420T150739
CREATED:20241105T111936Z
LAST-MODIFIED:20250905T070206Z
UID:16155-1757844000-1757869200@fahrzeugmuseum-chemnitz.de
SUMMARY:9. Simson- und MZ-Treffen feat. Eska
DESCRIPTION:English below! \n\n  \nDer unverwechselbare Geruch von 2-Takt-Öl\, das Knattern der Motoren und glänzendes Chrom in der Sonne – am 14. September 2025 wird Chemnitz wieder zum Treffpunkt für alle Liebhaber von Simson und MZ. Gemeinsam laden das Museum für sächsische Fahrzeuge Chemnitz und die ESKA Automotive GmbH zu einem besonderen Tag für alle Generationen ein\, an dem Zweiradgeschichte lebendig wird. \nOb originalgetreu\, restauriert oder liebevoll und kreativ umgebaut – die legendären Zweiräder aus Suhl und Zschopau verbinden Generationen. Jung und Alt teilen hier eine Leidenschaft\, die weit über Technik hinausgeht: Es ist das Gefühl von Freiheit\, Gemeinschaft und gelebter Geschichte. \nIn diesem Jahr wird gleich an zwei Orten gefeiert: \n\n10:00 bis 13:00 Uhr auf dem Parkplatz des Museums\, Zwickauer Straße 77\n13:00 bis 17:00 Uhr auf dem Gelände der ESKA Automotive GmbH\, Lutherstraße 87\n\n„Zu DDR-Zeiten lieferte die ESKA (früher Sächsische Schraubenwerke GmbH) Schrauben und Muttern für Fahrzeuge von Trabant bis Simson – da war der Gedanke\, gemeinsam ein Treffen zu veranstalten\, fast schon naheliegend. Wir möchten nicht nur den Besuchern zeigen\, wer ESKA ist\, sondern sie auch die heutige Produktion hautnah erleben lassen“\, erzählt Lukas Nagel\, Mitorganisator des Treffens. \nDie Besucher erwartet ein buntes Programm: \n\nRadio T sendet live von der Veranstaltung\nDer beliebte Moped-Limbo am Museum – wer kommt mit seinem Moped am tiefsten unter der Stange durch?\nPreisverleihung bei der ESKA für die schönste Originalmaschine und den kreativsten Umbau\nLO Robur-Kinobus am Museum mit Kurzfilmen zu Kunst und Kultur im Vogtland\nWerksführungen zwischen 13:30 und 16:30 Uhr bei der ESKA Automotive GmbH – mit exklusiver Erinnerung: eine handsignierte Schraube als Schlüsselanhänger\nESKA-Merch-Stand mit einem Schraubenset und vielem mehr.\nKulinarische Angebote an beiden Standorten\n\nDieses Treffen ist mehr als nur ein Event – es ist ein Stück gelebte Kulturgeschichte\, ein Wiedersehen alter Bekannter und ein Kennenlernen neuer Freunde. \nWeitere Infos auch auf dem Instagram-Kanal der ESKA. \nEintritt: 4 Euro \n  \n\n  \nThe smell of two-stroke oil\, the roar of engines and gleaming chrome in the sun – on September 14\, 2025\, Chemnitz will once again be a meeting place for all Simson and MZ enthusiasts.  \nThe Museum of Saxon Vehicles Chemnitz and ESKA Automotive GmbH cordially invite you to a special day for all generations. Whether original\, restored or lovingly and creatively rebuilt – the legendary two-wheelers from Suhl and Zschopau connect generations. Young and old share a passion that goes far beyond technology: the feeling of freedom\, community\, and living history. \n This year the celebration will take place at two locations:  \n\n10:00 a.m. to 1:00 p.m. in the museum parking lot\, Zwickauer Straße 77\n1:00 p.m. to 5:00 p.m. on the premises of ESKA Automotive GmbH\, Lutherstraße 87 \n\n„During the GDR era\, ESKA (formerly Sächsische Schraubenwerke GmbH) supplied screws and nuts for vehicles ranging from Trabant to Simson – so the idea of organizing a joint reunion was obvious. We not only want to present ESKA\, but also give a first-hand experience of today’s production\,“ explains Lukas Nagel\, co-organizer of the reunion.  \nVisitors can expect a varied program:  \n\nRadio T will broadcast live from the event \nThe popular moped limbo at the museum – who can get their moped under the pole the lowest? \nAwards ceremony at ESKA for the most beautiful original machine and the most creative conversion\n LO Robur cinema bus at the museum with short films about art and culture in the Vogtland region \nFactory tours between 1:30 p.m. and 4:30 p.m. at ESKA Automotive GmbH – with an exclusive souvenir: a hand-signed screw as a keychain \nESKA merchandise stand with a screw set and much more\n Culinary offerings at both locations \n\nThis meeting is more than just an event – it is a piece of living cultural history\, a reunion with old acquaintances and a chance to meet new friends. \nAdmission: 4 Euro
URL:https://fahrzeugmuseum-chemnitz.de/veranstaltung/9-simson-und-mz-treffen-feat-eska/
CATEGORIES:Markentreffen
ATTACH;FMTTYPE=image/jpeg:https://fahrzeugmuseum-chemnitz.de/wp-content/uploads/2024/08/IMG_20240806_132337_b.jpg
END:VEVENT
END:VCALENDAR