BEGIN:VCALENDAR
VERSION:2.0
PRODID:-//Museum für sächsische Fahrzeuge Chemnitz - ECPv6.15.18//NONSGML v1.0//EN
CALSCALE:GREGORIAN
METHOD:PUBLISH
X-WR-CALNAME:Museum für sächsische Fahrzeuge Chemnitz
X-ORIGINAL-URL:https://fahrzeugmuseum-chemnitz.de
X-WR-CALDESC:Veranstaltungen für Museum für sächsische Fahrzeuge Chemnitz
REFRESH-INTERVAL;VALUE=DURATION:PT1H
X-Robots-Tag:noindex
X-PUBLISHED-TTL:PT1H
BEGIN:VTIMEZONE
TZID:Europe/Berlin
BEGIN:DAYLIGHT
TZOFFSETFROM:+0100
TZOFFSETTO:+0200
TZNAME:CEST
DTSTART:20220327T010000
END:DAYLIGHT
BEGIN:STANDARD
TZOFFSETFROM:+0200
TZOFFSETTO:+0100
TZNAME:CET
DTSTART:20221030T010000
END:STANDARD
BEGIN:DAYLIGHT
TZOFFSETFROM:+0100
TZOFFSETTO:+0200
TZNAME:CEST
DTSTART:20230326T010000
END:DAYLIGHT
BEGIN:STANDARD
TZOFFSETFROM:+0200
TZOFFSETTO:+0100
TZNAME:CET
DTSTART:20231029T010000
END:STANDARD
BEGIN:DAYLIGHT
TZOFFSETFROM:+0100
TZOFFSETTO:+0200
TZNAME:CEST
DTSTART:20240331T010000
END:DAYLIGHT
BEGIN:STANDARD
TZOFFSETFROM:+0200
TZOFFSETTO:+0100
TZNAME:CET
DTSTART:20241027T010000
END:STANDARD
END:VTIMEZONE
BEGIN:VEVENT
DTSTART;TZID=Europe/Berlin:20230504T183000
DTEND;TZID=Europe/Berlin:20230504T200000
DTSTAMP:20260424T194311
CREATED:20230330T080919Z
LAST-MODIFIED:20230502T081107Z
UID:14203-1683225000-1683230400@fahrzeugmuseum-chemnitz.de
SUMMARY:Buchvorstellung "Aus der Werkstatt der Natur. Der DKW-Weltrekordwagen des Freiherrn Reinhard von Koenig-Fachsenfeld" von Frieder Bach
DESCRIPTION:Frieder Bach lässt den Leserin seinem jüngsten Buch an seiner langjährigen Suche nach dem Schicksal des DKW-Rekordwagens des Freiherrn Reinhard von Koenig-Fachsenfeld (1899-1992) teilnehmen. Im Fahrzeugmuseum stellt er dieses Buch\, das im Mironde-Verlag erschienen ist\, vor. \nZunächst weckte ein Sammler auf dem Garitzer DKW-Treffen von 1982 sein Interesse für einen nicht näher definierten »DKW-Rennwagen«. Nach langem Hin und Her konnte Frieder Bach den Wagen 1984 im Tausch gegen Baumaterial aus Brandenburg abholen. Jedoch fuhr ein LKW auf den Transport auf und erschwerte mit der Beschädigung die Identifizierung des Fahrzeugs zusätzlich. Aber Glück gehört auch zum Sammlerdasein. Der Schweizer Fahrzeugkenner Hans-Peter Bröhl stellte unter zahlreichen Farbschichten einen weißen Originallack am Fahrgestell fest. So war nur der Weltrekordwagen des Reinhard von Koenig-Fachsenfeld lackiert. Bei den DKW-Werkswagen war der Lack schwarz. Der Freiherr hatte den Wagen selbst aerodynamisch gestaltet. Von Koenig-Fachsenfeld modifizierte auch die Wagen anderer Rennfahrer\, zum Beispiel den Manfred von Brauchitschs. Die Ideen für die Aerodynamik schaute sich der Freiherr von der Natur ab. Aus deren »Werkstatt« gelangte die Formgebung in die Werkstatt des Reinhard von Koenig-Fachsenfeld. \nDas Buch kann zur Veranstaltung für 14\,50 € erworben werden. \nWir bitten Sie darum\, sich überpost@fahrzeugmuseum-chemnitz.de für die Veranstaltung anzumelden. \n\nEintritt: 6 Euro \n	\n		\n							\n						Cover des Buches „Der DKW-Weltekordwagen des Freiherrn Reinhard von Koenig-Fachsenfeld“ 		\n			\n	\n		\n							\n						Frieder Bach hinter dem Lenkrad
URL:https://fahrzeugmuseum-chemnitz.de/veranstaltung/buchvorstellung-aus-der-werkstatt-der-natur-der-dkw-weltekordwagen-des-freiherrn-reinhard-von-koenig-fachsenfeld-von-frieder-bach/
LOCATION:Museum für sächsische Fahrzeuge Chemnitz e.V.\, Zwickauer Straße 77\, Chemnitz\, Sachsen\, 09112\, Deutschland
CATEGORIES:Buchvorstellung,Veranstaltung
ATTACH;FMTTYPE=image/jpeg:https://fahrzeugmuseum-chemnitz.de/wp-content/uploads/2023/03/Fachsenfeld_FriederBach_MirondeVerlag.jpg
END:VEVENT
END:VCALENDAR