BEGIN:VCALENDAR
VERSION:2.0
PRODID:-//Museum für sächsische Fahrzeuge Chemnitz - ECPv6.15.18//NONSGML v1.0//EN
CALSCALE:GREGORIAN
METHOD:PUBLISH
X-WR-CALNAME:Museum für sächsische Fahrzeuge Chemnitz
X-ORIGINAL-URL:https://fahrzeugmuseum-chemnitz.de
X-WR-CALDESC:Veranstaltungen für Museum für sächsische Fahrzeuge Chemnitz
REFRESH-INTERVAL;VALUE=DURATION:PT1H
X-Robots-Tag:noindex
X-PUBLISHED-TTL:PT1H
BEGIN:VTIMEZONE
TZID:Europe/Berlin
BEGIN:DAYLIGHT
TZOFFSETFROM:+0100
TZOFFSETTO:+0200
TZNAME:CEST
DTSTART:20230326T010000
END:DAYLIGHT
BEGIN:STANDARD
TZOFFSETFROM:+0200
TZOFFSETTO:+0100
TZNAME:CET
DTSTART:20231029T010000
END:STANDARD
BEGIN:DAYLIGHT
TZOFFSETFROM:+0100
TZOFFSETTO:+0200
TZNAME:CEST
DTSTART:20240331T010000
END:DAYLIGHT
BEGIN:STANDARD
TZOFFSETFROM:+0200
TZOFFSETTO:+0100
TZNAME:CET
DTSTART:20241027T010000
END:STANDARD
BEGIN:DAYLIGHT
TZOFFSETFROM:+0100
TZOFFSETTO:+0200
TZNAME:CEST
DTSTART:20250330T010000
END:DAYLIGHT
BEGIN:STANDARD
TZOFFSETFROM:+0200
TZOFFSETTO:+0100
TZNAME:CET
DTSTART:20251026T010000
END:STANDARD
END:VTIMEZONE
BEGIN:VEVENT
DTSTART;TZID=Europe/Berlin:20240504T180000
DTEND;TZID=Europe/Berlin:20240504T180000
DTSTAMP:20260419T135741
CREATED:20231113T160404Z
LAST-MODIFIED:20240515T071446Z
UID:14923-1714845600-1714845600@fahrzeugmuseum-chemnitz.de
SUMMARY:Chemnitzer Museumsnacht 2024
DESCRIPTION:Zur Museumsnacht wird in diesem Jahr die Leidenschaft gefeiert: mit sinnlichem Tango\, viel Musik und spannender Unterhaltung für Groß und Klein.  \nWir freuen uns besonders\, in diesem Jahr die Sächsische Mozart-Gesellschaft bei uns zu begrüßen. Um das Bandoneon zu feiern\, lädt die Mozart-Gesellschaft von 19 bis 23 Uhr zum Tango-Mitmach-Tanz ein. Bei Live-Bandoneon-Musik mit dem Duo Tango Amoratado dürfen die Besucher den leidenschaftlichen Tanz unter Anleitung selbst ausprobieren.  \nDoch was haben Chemnitz und der Tango miteinander zu tun? Die Wiege des weltberühmten Bandoneons steht in Chemnitz. Friedrich Uhlig als Klarinettist des ersten Stadtorchesters in Chemnitz verschrieb sich dem Instrumentenbau und erfand die Concertina\, die weiterentwickelt in Carlsfeld tausendfach als Bandoneon gebaut und nach Süd- und Nordamerika exportiert wurde. Heute ist das Bandoneon die Seele des Tango Argentino und Weltkulturerbe. Anlässlich des Kulturhauptstadtjahres 2025 organisiert die Sächsische Mozart-Gesellschaft e. V. zusammen mit dem Oscar e. V. im Weltecho Bandoneonunterricht und Live-Konzerte\, zu denen in Milongas Tango Argentino getanzt wird. Dies zu erleben und diese Geschichte erfahrend sind Sie in der Museumsnacht im Fahrzeugmuseum in der Hochgarage herzlich eingeladen. \nDas Chemnitzer DJ-Team Heckhorn feiert vor der Hochgarage die (Museums-)Nacht und bietet nicht nur feinsten Sound zum Tanzen\, sondern projiziert auch passende Bilder und Videos an die Fassade der Hochgarage. Auch der Tango wird natürlich mit anklingen. \nModerne Technik hingegen bieten die Stadtfabrikanten e.V.\, die Mitmach- und Bastelangebot u.a. mit dem 3D-Drucker für Groß und Klein anbieten. \nKöstlichkeiten (auch vegetarisch) aus der Gulaschkanone und frisches Fassbier vom Bier-Framo verwöhnen kulinarisch unsere BesucherInnen an diesem Abend. \nVerschiedene Stände laden zum Bummeln ein.  \nEnglisches Angebot: Upon request an employee of the museum will provide information about the house and the exhibition in English.  \nFranzösische Führung: À 18h nous vous proposons une visite guidée de l’exposition en français.  \nUnsere besondere Sonderausstellung ist in diesem Jahr im Chemnitzer Vita-Center zu sehen: „Pappe trifft Platte. DDR-Fahrzeuge im Heckert-Gebiet“. Im Rahmen des Projektes Fritz 50 zeigen wir eine kleine Auswahl von Fahrzeugen und viele Informationen und Fotos zur Fahrzeuggeschichte in der DDR.  \nWo noch zur Museumsnacht gefeiert wird\, findet sich hier.\n \n	\n		\n							\n						Tango Amoratado\, Foto: Wolfgang Schmidt 		\n			\n	\n		\n							\n						Tangotänzer\, Foto: Sächsische Mozart-Gesellschaft e. V. 		\n			\n	\n		\n							\n						Das DJ-Team Heckhorn 		\n			\n	\n		\n							\n						Die historische Hochgarage mit einem Werbebild von Esweco angeleuchtet 		\n			\n	\n		\n							\n						Der Bier-Framo wird vorbereitet
URL:https://fahrzeugmuseum-chemnitz.de/veranstaltung/chemnitzer-museumsnacht-2024/
LOCATION:Museum für sächsische Fahrzeuge Chemnitz e.V.\, Zwickauer Straße 77\, Chemnitz\, Sachsen\, 09112\, Deutschland
CATEGORIES:Museumsnacht
ATTACH;FMTTYPE=image/jpeg:https://fahrzeugmuseum-chemnitz.de/wp-content/uploads/2023/12/Museumsnacht-2024_Format_A5_quer_b.jpg
END:VEVENT
END:VCALENDAR