BEGIN:VCALENDAR
VERSION:2.0
PRODID:-//Museum für sächsische Fahrzeuge Chemnitz - ECPv6.15.18//NONSGML v1.0//EN
CALSCALE:GREGORIAN
METHOD:PUBLISH
X-WR-CALNAME:Museum für sächsische Fahrzeuge Chemnitz
X-ORIGINAL-URL:https://fahrzeugmuseum-chemnitz.de
X-WR-CALDESC:Veranstaltungen für Museum für sächsische Fahrzeuge Chemnitz
REFRESH-INTERVAL;VALUE=DURATION:PT1H
X-Robots-Tag:noindex
X-PUBLISHED-TTL:PT1H
BEGIN:VTIMEZONE
TZID:Europe/Berlin
BEGIN:DAYLIGHT
TZOFFSETFROM:+0100
TZOFFSETTO:+0200
TZNAME:CEST
DTSTART:20140330T010000
END:DAYLIGHT
BEGIN:STANDARD
TZOFFSETFROM:+0200
TZOFFSETTO:+0100
TZNAME:CET
DTSTART:20141026T010000
END:STANDARD
BEGIN:DAYLIGHT
TZOFFSETFROM:+0100
TZOFFSETTO:+0200
TZNAME:CEST
DTSTART:20150329T010000
END:DAYLIGHT
BEGIN:STANDARD
TZOFFSETFROM:+0200
TZOFFSETTO:+0100
TZNAME:CET
DTSTART:20151025T010000
END:STANDARD
BEGIN:DAYLIGHT
TZOFFSETFROM:+0100
TZOFFSETTO:+0200
TZNAME:CEST
DTSTART:20160327T010000
END:DAYLIGHT
BEGIN:STANDARD
TZOFFSETFROM:+0200
TZOFFSETTO:+0100
TZNAME:CET
DTSTART:20161030T010000
END:STANDARD
END:VTIMEZONE
BEGIN:VEVENT
DTSTART;TZID=Europe/Berlin:20151105T183000
DTEND;TZID=Europe/Berlin:20151105T203000
DTSTAMP:20260424T181707
CREATED:20151006T145538Z
LAST-MODIFIED:20210317T165447Z
UID:1856-1446748200-1446755400@fahrzeugmuseum-chemnitz.de
SUMMARY:Die PKW-Designentwicklung nach 1945 am Beispiel Zwickauer Fahrzeuge
DESCRIPTION:Vortrag von Dipl.-Ing. Detlef Neumann am 05. November 2015 ab 18:30 Uhr\n \nDer Wiederaufbau der deutschen PKW-Fertigung nach 1945 begann in Ost und West gleichermaßen mit Vorkriegstypen. Während die dann folgende Designentwicklung bis zum Ende der 50er Jahre öffentlich sichtbar war\, begann danach leider in Zwickau die Ära der „unsichtbaren Prototypen“\, was natürlich als vermeintliche Stagnation wahrgenommen wurde.\nDer Vortrag zeigt mit vielen z.T. unveröffentlichten Bildern die Entwicklung bis 1990 und stellt sie der internationalen Konkurrenz gegenüber. \nDer Referent\, Herr Dipl.-Ing. Detlef Neumann\, verantwortet den Bereich Designmodellbau an der Fakultät Kraftfahrzeugtechnik der Westsächsischen Hochschule Zwickau. Nach seiner Berufsausbildung im VEB Sachsenring Automobilwerke Zwickau und einem Studium der Kraftfahrzeugtechnik arbeitete er im VEB Sachsenring nach einer Station in der Endmontage schließlich in der Karosserieentwicklung mit an der Serienvorbereitung des Trabant 1.1.
URL:https://fahrzeugmuseum-chemnitz.de/veranstaltung/die-pkw-designentwicklung-nach-1945-am-beispiel-zwickauer-fahrzeuge/
LOCATION:Museum für sächsische Fahrzeuge Chemnitz e.V.\, Zwickauer Straße 77\, Chemnitz\, Sachsen\, 09112\, Deutschland
CATEGORIES:Vortrag
ATTACH;FMTTYPE=image/jpeg:https://fahrzeugmuseum-chemnitz.de/wp-content/uploads/2015/10/Ankuendigung_MfSF.jpg
END:VEVENT
END:VCALENDAR