BEGIN:VCALENDAR
VERSION:2.0
PRODID:-//Museum für sächsische Fahrzeuge Chemnitz - ECPv6.15.18//NONSGML v1.0//EN
CALSCALE:GREGORIAN
METHOD:PUBLISH
X-WR-CALNAME:Museum für sächsische Fahrzeuge Chemnitz
X-ORIGINAL-URL:https://fahrzeugmuseum-chemnitz.de
X-WR-CALDESC:Veranstaltungen für Museum für sächsische Fahrzeuge Chemnitz
REFRESH-INTERVAL;VALUE=DURATION:PT1H
X-Robots-Tag:noindex
X-PUBLISHED-TTL:PT1H
BEGIN:VTIMEZONE
TZID:Europe/Berlin
BEGIN:DAYLIGHT
TZOFFSETFROM:+0100
TZOFFSETTO:+0200
TZNAME:CEST
DTSTART:20180325T010000
END:DAYLIGHT
BEGIN:STANDARD
TZOFFSETFROM:+0200
TZOFFSETTO:+0100
TZNAME:CET
DTSTART:20181028T010000
END:STANDARD
BEGIN:DAYLIGHT
TZOFFSETFROM:+0100
TZOFFSETTO:+0200
TZNAME:CEST
DTSTART:20190331T010000
END:DAYLIGHT
BEGIN:STANDARD
TZOFFSETFROM:+0200
TZOFFSETTO:+0100
TZNAME:CET
DTSTART:20191027T010000
END:STANDARD
BEGIN:DAYLIGHT
TZOFFSETFROM:+0100
TZOFFSETTO:+0200
TZNAME:CEST
DTSTART:20200329T010000
END:DAYLIGHT
BEGIN:STANDARD
TZOFFSETFROM:+0200
TZOFFSETTO:+0100
TZNAME:CET
DTSTART:20201025T010000
END:STANDARD
END:VTIMEZONE
BEGIN:VEVENT
DTSTART;TZID=Europe/Berlin:20190526T100000
DTEND;TZID=Europe/Berlin:20190526T170000
DTSTAMP:20260421T180005
CREATED:20190412T142336Z
LAST-MODIFIED:20210316T150709Z
UID:5833-1558864800-1558890000@fahrzeugmuseum-chemnitz.de
SUMMARY:Fahrradfest 2019
DESCRIPTION:Treffen für Fahrradfreunde am So.\, 26.05.2019 \n  \nAuch in diesem Jahr wieder treffen sich alle Begeisterten historischer Räder am letzten Sonntag im Mai bei uns. \nStart der Veranstaltung ist wie immer 10 Uhr. \nBei einem kleinen Flohmarkt werden nicht nur historische Räder\, sondern auch deren Teile angeboten. \n11 Uhr erfolgt die Vorstellung des Projektes zur Textima-Rennrad-Geschichte. \n12.30 Uhr startet dann die traditionelle Rundfahrt durch Chemnitz. \nJeder\, der sich für Radhistorie interessiert\, ist zum diesjährigen Fahrradfest wieder herzlich eingeladen – am besten natürlich per Fahrrad !
URL:https://fahrzeugmuseum-chemnitz.de/veranstaltung/fahrradfest-2019/
LOCATION:Museum für sächsische Fahrzeuge Chemnitz e.V.\, Zwickauer Straße 77\, Chemnitz\, Sachsen\, 09112\, Deutschland
CATEGORIES:Veranstaltung
ATTACH;FMTTYPE=image/jpeg:https://fahrzeugmuseum-chemnitz.de/wp-content/uploads/2019/05/Fahrradfest_2018.jpg
END:VEVENT
END:VCALENDAR