BEGIN:VCALENDAR
VERSION:2.0
PRODID:-//Museum für sächsische Fahrzeuge Chemnitz - ECPv6.15.18//NONSGML v1.0//EN
CALSCALE:GREGORIAN
METHOD:PUBLISH
X-WR-CALNAME:Museum für sächsische Fahrzeuge Chemnitz
X-ORIGINAL-URL:https://fahrzeugmuseum-chemnitz.de
X-WR-CALDESC:Veranstaltungen für Museum für sächsische Fahrzeuge Chemnitz
REFRESH-INTERVAL;VALUE=DURATION:PT1H
X-Robots-Tag:noindex
X-PUBLISHED-TTL:PT1H
BEGIN:VTIMEZONE
TZID:Europe/Berlin
BEGIN:DAYLIGHT
TZOFFSETFROM:+0100
TZOFFSETTO:+0200
TZNAME:CEST
DTSTART:20220327T010000
END:DAYLIGHT
BEGIN:STANDARD
TZOFFSETFROM:+0200
TZOFFSETTO:+0100
TZNAME:CET
DTSTART:20221030T010000
END:STANDARD
BEGIN:DAYLIGHT
TZOFFSETFROM:+0100
TZOFFSETTO:+0200
TZNAME:CEST
DTSTART:20230326T010000
END:DAYLIGHT
BEGIN:STANDARD
TZOFFSETFROM:+0200
TZOFFSETTO:+0100
TZNAME:CET
DTSTART:20231029T010000
END:STANDARD
BEGIN:DAYLIGHT
TZOFFSETFROM:+0100
TZOFFSETTO:+0200
TZNAME:CEST
DTSTART:20240331T010000
END:DAYLIGHT
BEGIN:STANDARD
TZOFFSETFROM:+0200
TZOFFSETTO:+0100
TZNAME:CET
DTSTART:20241027T010000
END:STANDARD
END:VTIMEZONE
BEGIN:VEVENT
DTSTART;TZID=Europe/Berlin:20230712T130000
DTEND;TZID=Europe/Berlin:20230712T150000
DTSTAMP:20260424T194300
CREATED:20230425T153934Z
LAST-MODIFIED:20230517T075544Z
UID:14246-1689166800-1689174000@fahrzeugmuseum-chemnitz.de
SUMMARY:Ferienprogramm: Erste Hilfe für´s Fahrrad
DESCRIPTION:An drei Terminen in den Sommerferien verwandelt sich das Fahrzeugmuseum in eine kleine Fahrradwerkstatt. \nDamit der Drahtesel immer gut in Schuss ist\, bedarf er ein wenig Pflege und zuweilen auch einer Reparatur. Auf was man dabei achten muss und über welches Wissen man verfügen sollte\, wird bei diesem „Erste Hilfe-Kurs fürs Fahrrad“ den Kindern erklärt. \nKinder ab 8 Jahren können am 12. Juli\, 2. August und 16. August 2023 um 13 Uhr mit ihrem Fahrrad vorbeikommen und unter Anleitung einfache Reparaturen lernen. \nVom Reifen-Flicken über das Einstellen von Bremsen und Schaltung gibt es viel Wissenswertes rund um´s Rad zu erfahren. \nWir bitten um eine Anmeldung über post@fahrzeugmuseum-chemnitz.de\, da nur eine begrenzte Anzahl von Teilnehmerplätzen verfügbar ist. \nTeilnahmegebühr: 4 Euro
URL:https://fahrzeugmuseum-chemnitz.de/veranstaltung/ferienprogramm-erste-hilfe-fuers-fahrrad/
LOCATION:Museum für sächsische Fahrzeuge Chemnitz e.V.\, Zwickauer Straße 77\, Chemnitz\, Sachsen\, 09112\, Deutschland
CATEGORIES:Kinder,Veranstaltung
ATTACH;FMTTYPE=image/jpeg:https://fahrzeugmuseum-chemnitz.de/wp-content/uploads/2023/04/Diamant_Stundeplan39.jpg
END:VEVENT
END:VCALENDAR