BEGIN:VCALENDAR
VERSION:2.0
PRODID:-//Museum für sächsische Fahrzeuge Chemnitz - ECPv6.15.18//NONSGML v1.0//EN
CALSCALE:GREGORIAN
METHOD:PUBLISH
X-WR-CALNAME:Museum für sächsische Fahrzeuge Chemnitz
X-ORIGINAL-URL:https://fahrzeugmuseum-chemnitz.de
X-WR-CALDESC:Veranstaltungen für Museum für sächsische Fahrzeuge Chemnitz
REFRESH-INTERVAL;VALUE=DURATION:PT1H
X-Robots-Tag:noindex
X-PUBLISHED-TTL:PT1H
BEGIN:VTIMEZONE
TZID:Europe/Berlin
BEGIN:DAYLIGHT
TZOFFSETFROM:+0100
TZOFFSETTO:+0200
TZNAME:CEST
DTSTART:20240331T010000
END:DAYLIGHT
BEGIN:STANDARD
TZOFFSETFROM:+0200
TZOFFSETTO:+0100
TZNAME:CET
DTSTART:20241027T010000
END:STANDARD
BEGIN:DAYLIGHT
TZOFFSETFROM:+0100
TZOFFSETTO:+0200
TZNAME:CEST
DTSTART:20250330T010000
END:DAYLIGHT
BEGIN:STANDARD
TZOFFSETFROM:+0200
TZOFFSETTO:+0100
TZNAME:CET
DTSTART:20251026T010000
END:STANDARD
BEGIN:DAYLIGHT
TZOFFSETFROM:+0100
TZOFFSETTO:+0200
TZNAME:CEST
DTSTART:20260329T010000
END:DAYLIGHT
BEGIN:STANDARD
TZOFFSETFROM:+0200
TZOFFSETTO:+0100
TZNAME:CET
DTSTART:20261025T010000
END:STANDARD
END:VTIMEZONE
BEGIN:VEVENT
DTSTART;TZID=Europe/Berlin:20251127T183000
DTEND;TZID=Europe/Berlin:20251127T200000
DTSTAMP:20260424T145157
CREATED:20241127T100218Z
LAST-MODIFIED:20250715T065909Z
UID:16245-1764268200-1764273600@fahrzeugmuseum-chemnitz.de
SUMMARY:Reisebericht: Mit der Zündapp durch die Karpaten
DESCRIPTION:Sieben Tage lang fuhr Gerold Trautner mit seinem „Grünen Elefanten“\, der Zündapp KS601\, durch die Südkarpaten. Gestartet in Bad Lausick fuhren er und der Rest der Reisegruppe 15 Tage und legten 4.872 km Kilometer nahezu pannenfrei zurück. \nAuf der 7-tägigen Motorradtour durch die Südkarpaten erlebte die Gruppe nicht nur die legendären Passstraßen Transfăgărășan und Transalpina\, sondern besuchte auch beeindruckende Städte. Insgesamt wurden rund 4.872 Kilometer gefahren. So blieb Zeit\, die unberührte\, wilde Schönheit Rumäniens zu genießen und unvergessliche Eindrücke zu sammeln. Von diesen Erlebnissen berichtet Gerold Trautner in seinem Reisebericht\, der mit vielen Fotos untermalt wird. \nEintritt: 8\,00 € \nWir bitten um eine Anmeldung über post@fahrzeugmuseum-chemnitz.de\,  da nur eine begrenzte Anzahl von Teilnehmerplätzen verfügbar ist. \n  \nFotos zur besseren Ansicht bitte anklicken! \n	\n		\n							\n						Rundblick Poieni 		\n			\n	\n		\n							\n						Das Foto direkt nach der Ankunft in Bad Lausick zeigt die Freude Gerold Trautners über die geglückte Reise. 		\n			\n	\n		\n							\n						Zündapp KS601 		\n			\n	\n		\n							\n						Südkarpaten 		\n			\n	\n		\n							\n						Die Reisegruppe in den Südkarpaten 		\n			\n	\n		\n							\n						Transfogarascher Hochstraße
URL:https://fahrzeugmuseum-chemnitz.de/veranstaltung/reisebericht-mit-der-zuendapp-durch-die-karpaten/
LOCATION:Museum für sächsische Fahrzeuge Chemnitz e.V.\, Zwickauer Straße 77\, Chemnitz\, Sachsen\, 09112\, Deutschland
CATEGORIES:Vortrag
ATTACH;FMTTYPE=image/jpeg:https://fahrzeugmuseum-chemnitz.de/wp-content/uploads/2024/11/20241001-26_b.jpg
END:VEVENT
END:VCALENDAR