BEGIN:VCALENDAR
VERSION:2.0
PRODID:-//Museum für sächsische Fahrzeuge Chemnitz - ECPv6.15.18//NONSGML v1.0//EN
CALSCALE:GREGORIAN
METHOD:PUBLISH
X-WR-CALNAME:Museum für sächsische Fahrzeuge Chemnitz
X-ORIGINAL-URL:https://fahrzeugmuseum-chemnitz.de
X-WR-CALDESC:Veranstaltungen für Museum für sächsische Fahrzeuge Chemnitz
REFRESH-INTERVAL;VALUE=DURATION:PT1H
X-Robots-Tag:noindex
X-PUBLISHED-TTL:PT1H
BEGIN:VTIMEZONE
TZID:Europe/Berlin
BEGIN:DAYLIGHT
TZOFFSETFROM:+0100
TZOFFSETTO:+0200
TZNAME:CEST
DTSTART:20230326T010000
END:DAYLIGHT
BEGIN:STANDARD
TZOFFSETFROM:+0200
TZOFFSETTO:+0100
TZNAME:CET
DTSTART:20231029T010000
END:STANDARD
BEGIN:DAYLIGHT
TZOFFSETFROM:+0100
TZOFFSETTO:+0200
TZNAME:CEST
DTSTART:20240331T010000
END:DAYLIGHT
BEGIN:STANDARD
TZOFFSETFROM:+0200
TZOFFSETTO:+0100
TZNAME:CET
DTSTART:20241027T010000
END:STANDARD
BEGIN:DAYLIGHT
TZOFFSETFROM:+0100
TZOFFSETTO:+0200
TZNAME:CEST
DTSTART:20250330T010000
END:DAYLIGHT
BEGIN:STANDARD
TZOFFSETFROM:+0200
TZOFFSETTO:+0100
TZNAME:CET
DTSTART:20251026T010000
END:STANDARD
END:VTIMEZONE
BEGIN:VEVENT
DTSTART;TZID=Europe/Berlin:20240915T100000
DTEND;TZID=Europe/Berlin:20240915T170000
DTSTAMP:20260424T181152
CREATED:20240808T100550Z
LAST-MODIFIED:20240808T121816Z
UID:15764-1726394400-1726419600@fahrzeugmuseum-chemnitz.de
SUMMARY:"Sattelfest" des European Peace Ride
DESCRIPTION:Ein Fest voller nostalgischer und sportlicher Erlebnisse wird das „Sattelfest“ 2024 des European Peace Ride. Besucher und Teilnehmer sind herzlich eingeladen\, diesen besonderen Tag am Jutta Müller Eissportzentrum in Chemnitz zu verbringen. \nBringen Sie Ihre Familie und Freunde mit und genießen Sie ein Fest voller nostalgischer und sportlicher Erlebnisse. Besitzer von Hochrädern sowie historischer Sport- und Rennräder sind herzlich eingeladen\, ihre Schätze vorzuführen und an den geplanten Spaßrennen teilzunehmen. Die Teilnahme ist kostenlos und bietet eine einzigartige Gelegenheit\, Teil dieses besonderen Events zu sein. \nDie Highlights des Tages sind: \n\nHistorische Fahrräder hautnah erleben: Von 10 bis 17 Uhr wird eine beeindruckende Ausstellung mit ca. 25-30 verschiedenen historischen Rädern präsentiert. Tauchen Sie ein in die Geschichte des Radsports und bestaunen Sie die Schätze vergangener Zeiten.\nHochradfahren für Jedermann: Haben Sie schon einmal ein Hochrad ausprobiert? Zwischen 12 und 13:30 Uhr haben Sie die Gelegenheit\, selbst auf einem Hochrad zu fahren und dieses historische Fahrerlebnis hautnah zu erleben.\nPräsentation verschiedener historischer Räder: Von 14 bis 14:30 Uhr gibt es spannende Gespräche und die Vorstellung einzelner Ausstellungsstücke. Erfahren Sie mehr über die Geschichten hinter den Rädern und lassen Sie sich von unserem Moderator und Szenemitgliedern durch das Programm führen.\nRennen der historischen Räder: Ab ca. 14:30 Uhr starten die spannenden historischen Rennen. Sehen Sie\, wie Hochräder sowie historische Sport- und Rennräder aus den Jahren 1920 bis 1980 über die Strecke flitzen. Besitzer von Hochrädern sowie historischen Sport- und Rennrädern sind herzlich eingeladen\, am kleinen „Spaßrennen“ teilzunehmen. Mitmachen kostet nichts und ist ausdrücklich erwünscht! Bitte beachten Sie\, dass das Rennen kein „normales“ Radrennen ist\, sondern der Vorstellung der Räder in einem lockeren Spaßwettkampf für Schaulustige im Eisstadion dient. Eine Anmeldung ist nicht erforderlich\, jedoch freut sich das Team über eine kurze Mail an anton@fit4bike.de\, um einen Überblick über die Teilnehmeranzahl zu erhalten. Gefahren werden 5 Runden à 200m.\nZieleinlauf des European Peace Ride: Das große Highlight des Tages erwartet uns um 15:30 Uhr. Erleben Sie den Zieleinlauf des European Peace Ride und feuern Sie die Radfahrer an\, die nach einer beeindruckenden Strecke und drei langen Etappentagen im Jutta Müller Eissportzentrum ankommen.\n\nDer Zeitplan im kurzen Überblick: \n• 10:00 – 17:00 Uhr: Ausstellung historischer Räder \n• 12:00 – 13:30 Uhr: Hochradfahren für Jedermann \n• 14:00 – 14:30 Uhr: Dialog mit Moderator und Vorstellung einzelner Ausstellungsstücke \n• Ca. 14:30 – 15:00 Uhr: Hochradrennen und Rennen mit historischen Sport- und Rennrädern \n• 15:30 Uhr: Zieleinlauf des European Peace Ride \n  \n  \nPlakat zur besseren Betrachtung anklicken! \n	\n		\n							\n						Poster zum „Sattelfest“ 2024 des European Peace Ride
URL:https://fahrzeugmuseum-chemnitz.de/veranstaltung/sattelfest-des-european-peace-ride/
CATEGORIES:Veranstaltung
ATTACH;FMTTYPE=image/jpeg:https://fahrzeugmuseum-chemnitz.de/wp-content/uploads/2024/08/Salletfest-Plakat-mit-Informationen-FINAL-compressed.jpg
END:VEVENT
END:VCALENDAR