BEGIN:VCALENDAR
VERSION:2.0
PRODID:-//Museum für sächsische Fahrzeuge Chemnitz - ECPv6.15.18//NONSGML v1.0//EN
CALSCALE:GREGORIAN
METHOD:PUBLISH
X-WR-CALNAME:Museum für sächsische Fahrzeuge Chemnitz
X-ORIGINAL-URL:https://fahrzeugmuseum-chemnitz.de
X-WR-CALDESC:Veranstaltungen für Museum für sächsische Fahrzeuge Chemnitz
REFRESH-INTERVAL;VALUE=DURATION:PT1H
X-Robots-Tag:noindex
X-PUBLISHED-TTL:PT1H
BEGIN:VTIMEZONE
TZID:Europe/Berlin
BEGIN:DAYLIGHT
TZOFFSETFROM:+0100
TZOFFSETTO:+0200
TZNAME:CEST
DTSTART:20240331T010000
END:DAYLIGHT
BEGIN:STANDARD
TZOFFSETFROM:+0200
TZOFFSETTO:+0100
TZNAME:CET
DTSTART:20241027T010000
END:STANDARD
BEGIN:DAYLIGHT
TZOFFSETFROM:+0100
TZOFFSETTO:+0200
TZNAME:CEST
DTSTART:20250330T010000
END:DAYLIGHT
BEGIN:STANDARD
TZOFFSETFROM:+0200
TZOFFSETTO:+0100
TZNAME:CET
DTSTART:20251026T010000
END:STANDARD
BEGIN:DAYLIGHT
TZOFFSETFROM:+0100
TZOFFSETTO:+0200
TZNAME:CEST
DTSTART:20260329T010000
END:DAYLIGHT
BEGIN:STANDARD
TZOFFSETFROM:+0200
TZOFFSETTO:+0100
TZNAME:CET
DTSTART:20261025T010000
END:STANDARD
END:VTIMEZONE
BEGIN:VEVENT
DTSTART;TZID=Europe/Berlin:20250130T183000
DTEND;TZID=Europe/Berlin:20250130T200000
DTSTAMP:20260420T113214
CREATED:20241119T101709Z
LAST-MODIFIED:20250130T082106Z
UID:16228-1738261800-1738267200@fahrzeugmuseum-chemnitz.de
SUMMARY:Vortrag: 30 Jahre Museum für sächsische Fahrzeuge Chemnitz
DESCRIPTION:Achtung: Die Veranstaltung ist ausgebucht! Ein zweiter Termin findet am 20. März 2025 um 18.30 Uhr statt. \n\nGenau 30 Jahre ist es her\, dass das Museum für sächsische Fahrzeuge gegründet wurde. Und wer wäre besser geeignet über die Entstehungsgeschichte\, die Anfänge und die vielen unvergesslichen Momente in der Museumsgeschichte zu berichten\, als Museumsgründer Frieder Bach. \nMit seinem Vortrag erinnert er an den schwierigen Start im Wasserschloss Klaffenbach\, den Umzug in die Hochgarage und natürlich auch an die vielen Sonderausstellungen\, die im Museum gezeigt wurden. Wer schon einmal bei Frieder Bachs Vorträgen dabei war\, weiss\, dass er auch viele lustige Anekdoten\, besondere Ereignisse und wichtige Personen in seinen Berichten auftauchen. \nLassen Sie sich an diesem Abend bei einem amüsantem Vortrag mit vielen Bildern aus unserer Geschichte unterhalten! \nEintritt: 8\,00 € \nWir bitten um eine Anmeldung über post@fahrzeugmuseum-chemnitz.de\,  da nur eine begrenzte Anzahl von Teilnehmerplätzen verfügbar ist. \n  \nFotos zur besseren Ansicht bitte anklicken! \n	\n		\n							\n						Dr. Carl Hahn und Frieder Bach 		\n			\n	\n		\n							\n						Frieder Bach mit seinem Nachbau der ersten DKW-Rennmaschine (Foto: Detlev Müller) 		\n			\n	\n		\n							\n						Frieder Bach trägt sich in das Goldene Buch der Stadt Chemnitz ein. Foto: Detlev Müller 		\n			\n	\n		\n							\n						Frieder Bach sitzt vor dem Goldenen Buch der Stadt Chemnitz\, im Hintergrund steht Oberbürgermeister Sven Schulze. Foto: Detlev Müller 		\n			\n	\n		\n							\n						Fachsenfeld F1 Wasserschloss Klaffenbach 		\n			\n	\n		\n							\n						DKW F8 Ausstellung Klaffenbach 		\n			\n	\n		\n							\n						Hochwasser Klaffenbach 		\n			\n	\n		\n							\n						Klaffenbach
URL:https://fahrzeugmuseum-chemnitz.de/veranstaltung/vortrag-30-jahre-museum-fuer-saechsische-fahrzeuge-chemnitz/
CATEGORIES:Vortrag
ATTACH;FMTTYPE=image/jpeg:https://fahrzeugmuseum-chemnitz.de/wp-content/uploads/2021/05/GoldenesBuch_3_DetlevMueller.jpg
END:VEVENT
END:VCALENDAR