BEGIN:VCALENDAR
VERSION:2.0
PRODID:-//Museum für sächsische Fahrzeuge Chemnitz - ECPv6.15.18//NONSGML v1.0//EN
CALSCALE:GREGORIAN
METHOD:PUBLISH
X-WR-CALNAME:Museum für sächsische Fahrzeuge Chemnitz
X-ORIGINAL-URL:https://fahrzeugmuseum-chemnitz.de
X-WR-CALDESC:Veranstaltungen für Museum für sächsische Fahrzeuge Chemnitz
REFRESH-INTERVAL;VALUE=DURATION:PT1H
X-Robots-Tag:noindex
X-PUBLISHED-TTL:PT1H
BEGIN:VTIMEZONE
TZID:Europe/Berlin
BEGIN:DAYLIGHT
TZOFFSETFROM:+0100
TZOFFSETTO:+0200
TZNAME:CEST
DTSTART:20240331T010000
END:DAYLIGHT
BEGIN:STANDARD
TZOFFSETFROM:+0200
TZOFFSETTO:+0100
TZNAME:CET
DTSTART:20241027T010000
END:STANDARD
BEGIN:DAYLIGHT
TZOFFSETFROM:+0100
TZOFFSETTO:+0200
TZNAME:CEST
DTSTART:20250330T010000
END:DAYLIGHT
BEGIN:STANDARD
TZOFFSETFROM:+0200
TZOFFSETTO:+0100
TZNAME:CET
DTSTART:20251026T010000
END:STANDARD
BEGIN:DAYLIGHT
TZOFFSETFROM:+0100
TZOFFSETTO:+0200
TZNAME:CEST
DTSTART:20260329T010000
END:DAYLIGHT
BEGIN:STANDARD
TZOFFSETFROM:+0200
TZOFFSETTO:+0100
TZNAME:CET
DTSTART:20261025T010000
END:STANDARD
END:VTIMEZONE
BEGIN:VEVENT
DTSTART;TZID=Europe/Berlin:20251023T183000
DTEND;TZID=Europe/Berlin:20251023T210000
DTSTAMP:20260424T150410
CREATED:20250917T095613Z
LAST-MODIFIED:20250917T095613Z
UID:17675-1761244200-1761253200@fahrzeugmuseum-chemnitz.de
SUMMARY:Vortrag: 300 Jahre kursächsische Postmeilensäulen in Chemnitz
DESCRIPTION:Projekt der Wiedererrichtung einer kursächsischen Postmeilensäule für Chemnitz \nDarstellung und Erläuterungen zur Präsentation des Inschriftensteines zu diesem Projekt von Rolf Schmalfuß \nUnsere Stadt Chemnitz hat eine reiche Geschichte. Dazu gehört auch\, dass die Stadttore als Ausgänge der Stadtbefestigung vor 300 Jahren mit kursächsischen Postmeilensäulen ausgestattet waren\, die den Fahrensleuten\, Postboten und Händlern als Distanzsäulen sowie als Ganz- und Halbmeilensäulen und als Viertelmeilensteine auf den Post- und Handelsrouten aus der Stadt den Weg wiesen. \nDie großen Distanzsäulen waren über 4 m hoch und trugen neben den Distanzinschriften ein reich verziertes kursächsisches und polnisch-litauisches Wappenpaar sowie das vergoldete Posthorn. \nDie Einrichtung mit Postmeilensäulen auf den Post- und Landstraßen Kursachsens geht zurück auf ein Mandat des Königs und Kurfürsten „August der Starke“\, der 1721 diese Maßnahme angeordnet hatte. Die Chemnitzer Postmeilensäulen sind erst 1725 aufgestellt und waren bis um 1850 bereits wieder abgebrochen worden. Heute stehen noch insgesamt 265 Postmeilensäulen aus dieser Zeit in Sachsen\, Brandenburg\, Sachsen-Anhalt\, Thüringen und sogar in der polnischen Nieder- und Oberlausitz. Es gibt bereits eine große Zahl Nachbildungen dieser Säulen\, wie sie ebenfalls für unsere Stadt angestrebt wird. \nDer Vortrag in Wort und Bild von Rolf Schmalfuß beleuchtet die Initiative\, den Charakter und den Umfang dieser „Verkehrsorganisation“ in barocker Zeit\, aber auch die Bedeutung der Säulen als Denkmale bis in die Gegenwart. Es wird zum Vortrag eine umfangreiche Diskussion angeboten\, die den Blick auf die historischen Verkehrsdenkmale schärfen und erweitern soll. \nEintrittspreis: Museumseintritt \nWir bitten um eine Anmeldung über post@fahrzeugmuseum-chemnitz.de\, da nur eine begrenzte Anzahl von Teilnehmerplätzen verfügbar ist. \n	\n		\n							\n						Historische Darstellung\, Bild: Archiv Rolf Schmalfuß 		\n			\n	\n		\n							\n						Stein mit ersten Inschriften für die spätere Postsäule\, Foto: Rolf Schmalfuß 		\n			\n	\n		\n							\n						Ralf Schmalfuß\, Foto: privat
URL:https://fahrzeugmuseum-chemnitz.de/veranstaltung/vortrag-300-jahre-kursaechsische-postmeilensaeulen-in-chemnitz/
LOCATION:Museum für sächsische Fahrzeuge Chemnitz e.V.\, Zwickauer Straße 77\, Chemnitz\, Sachsen\, 09112\, Deutschland
CATEGORIES:Vortrag
ATTACH;FMTTYPE=image/jpeg:https://fahrzeugmuseum-chemnitz.de/wp-content/uploads/2025/09/547438543_1210912211076091_3036534942616822806_n_b.jpg
END:VEVENT
END:VCALENDAR