BEGIN:VCALENDAR
VERSION:2.0
PRODID:-//Museum für sächsische Fahrzeuge Chemnitz - ECPv6.15.18//NONSGML v1.0//EN
CALSCALE:GREGORIAN
METHOD:PUBLISH
X-WR-CALNAME:Museum für sächsische Fahrzeuge Chemnitz
X-ORIGINAL-URL:https://fahrzeugmuseum-chemnitz.de
X-WR-CALDESC:Veranstaltungen für Museum für sächsische Fahrzeuge Chemnitz
REFRESH-INTERVAL;VALUE=DURATION:PT1H
X-Robots-Tag:noindex
X-PUBLISHED-TTL:PT1H
BEGIN:VTIMEZONE
TZID:Europe/Berlin
BEGIN:DAYLIGHT
TZOFFSETFROM:+0100
TZOFFSETTO:+0200
TZNAME:CEST
DTSTART:20180325T010000
END:DAYLIGHT
BEGIN:STANDARD
TZOFFSETFROM:+0200
TZOFFSETTO:+0100
TZNAME:CET
DTSTART:20181028T010000
END:STANDARD
BEGIN:DAYLIGHT
TZOFFSETFROM:+0100
TZOFFSETTO:+0200
TZNAME:CEST
DTSTART:20190331T010000
END:DAYLIGHT
BEGIN:STANDARD
TZOFFSETFROM:+0200
TZOFFSETTO:+0100
TZNAME:CET
DTSTART:20191027T010000
END:STANDARD
BEGIN:DAYLIGHT
TZOFFSETFROM:+0100
TZOFFSETTO:+0200
TZNAME:CEST
DTSTART:20200329T010000
END:DAYLIGHT
BEGIN:STANDARD
TZOFFSETFROM:+0200
TZOFFSETTO:+0100
TZNAME:CET
DTSTART:20201025T010000
END:STANDARD
END:VTIMEZONE
BEGIN:VEVENT
DTSTART;TZID=Europe/Berlin:20190606T183000
DTEND;TZID=Europe/Berlin:20190606T210000
DTSTAMP:20260420T152040
CREATED:20190529T125134Z
LAST-MODIFIED:20210317T074637Z
UID:6030-1559845800-1559854800@fahrzeugmuseum-chemnitz.de
SUMMARY:Die Geschichte der Firma Simson bis zu ihrer Enteignung
DESCRIPTION:Vortrag von Dr. Ulrike Schulz am 06. Juni 2019\, 18:30 Uhr\n \nWir freuen uns auf den Vortrag von Frau Dr. Ulrike Schulz\, Forscherin und Autorin zur Simson-Geschichte.\n \nDer Name der Firma „Simson“ wird heute national wie international mit der Produktion von Kleinkrafträdern aus Suhl verbunden. Als Markenname steht er vor allem in Westdeutschland als Synonym für die „Schwalbe“. Außerhalb von Thüringen weiß jedoch kaum noch jemand\, dass „Simson“ der Familienname einer deutsch-jüdischen Kaufmannsfamilie ist. Es war die Familie\, die das Unternehmen 1856 gegründet hat und achtzig Jahre sehr erfolgreich die Geschicke der Waffen- und Fahrzeugfabrik in Suhl prägte. Der Vortrag widmet sich dieser Zeitspanne der Firmengeschichte bis zur gewaltsamen Enteignung der Familie im Jahre 1935. \nFrau Dr. Schulz ist Mitarbeiterin des Historischen Instituts der Universität der Bundeswehr München.
URL:https://fahrzeugmuseum-chemnitz.de/veranstaltung/vortrag-die-geschichte-der-firma-simson-bis-zu-ihrer-enteignung/
LOCATION:Museum für sächsische Fahrzeuge Chemnitz e.V.\, Zwickauer Straße 77\, Chemnitz\, Sachsen\, 09112\, Deutschland
CATEGORIES:Vortrag
ATTACH;FMTTYPE=image/jpeg:https://fahrzeugmuseum-chemnitz.de/wp-content/uploads/2019/05/vortrag_simson_BisZurEnteignung_2019.jpg
END:VEVENT
END:VCALENDAR