BEGIN:VCALENDAR
VERSION:2.0
PRODID:-//Museum für sächsische Fahrzeuge Chemnitz - ECPv6.15.18//NONSGML v1.0//EN
CALSCALE:GREGORIAN
METHOD:PUBLISH
X-WR-CALNAME:Museum für sächsische Fahrzeuge Chemnitz
X-ORIGINAL-URL:https://fahrzeugmuseum-chemnitz.de
X-WR-CALDESC:Veranstaltungen für Museum für sächsische Fahrzeuge Chemnitz
REFRESH-INTERVAL;VALUE=DURATION:PT1H
X-Robots-Tag:noindex
X-PUBLISHED-TTL:PT1H
BEGIN:VTIMEZONE
TZID:Europe/Berlin
BEGIN:DAYLIGHT
TZOFFSETFROM:+0100
TZOFFSETTO:+0200
TZNAME:CEST
DTSTART:20260329T010000
END:DAYLIGHT
BEGIN:STANDARD
TZOFFSETFROM:+0200
TZOFFSETTO:+0100
TZNAME:CET
DTSTART:20261025T010000
END:STANDARD
BEGIN:DAYLIGHT
TZOFFSETFROM:+0100
TZOFFSETTO:+0200
TZNAME:CEST
DTSTART:20270328T010000
END:DAYLIGHT
BEGIN:STANDARD
TZOFFSETFROM:+0200
TZOFFSETTO:+0100
TZNAME:CET
DTSTART:20271031T010000
END:STANDARD
BEGIN:DAYLIGHT
TZOFFSETFROM:+0100
TZOFFSETTO:+0200
TZNAME:CEST
DTSTART:20280326T010000
END:DAYLIGHT
BEGIN:STANDARD
TZOFFSETFROM:+0200
TZOFFSETTO:+0100
TZNAME:CET
DTSTART:20281029T010000
END:STANDARD
END:VTIMEZONE
BEGIN:VEVENT
DTSTART;TZID=Europe/Berlin:20270204T183000
DTEND;TZID=Europe/Berlin:20270204T200000
DTSTAMP:20260424T141957
CREATED:20260423T082405Z
LAST-MODIFIED:20260423T082733Z
UID:18487-1801765800-1801771200@fahrzeugmuseum-chemnitz.de
SUMMARY:Vortrag „MZ/MuZ und mein Beitrag zum Endurosport“
DESCRIPTION:Auf Grund der hohen Nachfrage ist  dies die Wiederholung des Vortrages vom 9. April 2026. \n\nDie Zschopauer Weltmarke MZ hatte und hat noch immer viele Fans. An entscheidender Stelle ganz nah dran an der Firmenentwicklung war Diplom-Ingenieur Bernd Baumgartl. \nSchon seine Lehrzeit verbrachte er bei dem sächsischen Motorradhersteller. Nach dem Studium der KFZ-Technik war er als Entwicklungsingenieur speziell für die Geräusch- und Emmissionsmessungen zuständig. Ab 1982 wurde er Chefkonstrukteur des Werkes und damit verantwortlich für die ETZ-Modell und Versuchsmotoren\, die in der späteren DDR-Zeit entwickelt wurden. Nach der politischen Wende übernahm Bernd Baumgartel bis 1996 zusätzlich noch die Leitung der Einkaufsabteilung beim nun MuZ genannten Hersteller. \nAuch beim Geländesport\, der für MZ prägend war\, brachte er sich erfolgreich ein\, denn von 1977 bis 1990 leitete er die Sektion Enduro beim Motorsportclub MZ. \nIm Vortrag wird Bernd Baumgartl über sein Insiderwissen dieser spannende Epoche der sächsichen Kultmarke MZ berichten. \n  \nEintritt: 8\,00 € \nWir bitten um eine Anmeldung über post@fahrzeugmuseum-chemnitz.de\,  da nur eine begrenzte Anzahl von Teilnehmerplätzen verfügbar ist. \n	\n		\n							\n						Bernd Baumgartl
URL:https://fahrzeugmuseum-chemnitz.de/veranstaltung/vortrag-mz-muz-und-mein-beitrag-zum-endurosport-2/
LOCATION:Museum für sächsische Fahrzeuge Chemnitz e.V.\, Zwickauer Straße 77\, Chemnitz\, Sachsen\, 09112\, Deutschland
ATTACH;FMTTYPE=image/jpeg:https://fahrzeugmuseum-chemnitz.de/wp-content/uploads/2026/03/ETS-3_b.jpg
END:VEVENT
END:VCALENDAR