BEGIN:VCALENDAR
VERSION:2.0
PRODID:-//Museum für sächsische Fahrzeuge Chemnitz - ECPv6.15.18//NONSGML v1.0//EN
CALSCALE:GREGORIAN
METHOD:PUBLISH
X-WR-CALNAME:Museum für sächsische Fahrzeuge Chemnitz
X-ORIGINAL-URL:https://fahrzeugmuseum-chemnitz.de
X-WR-CALDESC:Veranstaltungen für Museum für sächsische Fahrzeuge Chemnitz
REFRESH-INTERVAL;VALUE=DURATION:PT1H
X-Robots-Tag:noindex
X-PUBLISHED-TTL:PT1H
BEGIN:VTIMEZONE
TZID:Europe/Berlin
BEGIN:DAYLIGHT
TZOFFSETFROM:+0100
TZOFFSETTO:+0200
TZNAME:CEST
DTSTART:20250330T010000
END:DAYLIGHT
BEGIN:STANDARD
TZOFFSETFROM:+0200
TZOFFSETTO:+0100
TZNAME:CET
DTSTART:20251026T010000
END:STANDARD
BEGIN:DAYLIGHT
TZOFFSETFROM:+0100
TZOFFSETTO:+0200
TZNAME:CEST
DTSTART:20260329T010000
END:DAYLIGHT
BEGIN:STANDARD
TZOFFSETFROM:+0200
TZOFFSETTO:+0100
TZNAME:CET
DTSTART:20261025T010000
END:STANDARD
BEGIN:DAYLIGHT
TZOFFSETFROM:+0100
TZOFFSETTO:+0200
TZNAME:CEST
DTSTART:20270328T010000
END:DAYLIGHT
BEGIN:STANDARD
TZOFFSETFROM:+0200
TZOFFSETTO:+0100
TZNAME:CET
DTSTART:20271031T010000
END:STANDARD
END:VTIMEZONE
BEGIN:VEVENT
DTSTART;TZID=Europe/Berlin:20260614T110000
DTEND;TZID=Europe/Berlin:20260614T130000
DTSTAMP:20260420T160356
CREATED:20251001T080223Z
LAST-MODIFIED:20260220T123048Z
UID:17814-1781434800-1781442000@fahrzeugmuseum-chemnitz.de
SUMMARY:Vortrag: Wie das Fahrrad nach Sachsen kam
DESCRIPTION:Im Rahmen des Fahrradfestes an der Hochgarage findet – mit musikalischer Begleitung – der Vortrag „Wie das Fahrrad nach Sachsen kam“ statt. Frank Papperitz berichtet dabei über die ersten Belege zum Bau und der Nutzung von Draisinen (Laufmaschinen) in Sachsen ab Herbst 1817. \nEr stellt eine Draisinen- Nachfertigung nach Dresdner Bauart vor und liest zudem durchaus heitere\, zeitgenössische Presseberichte über diese neuartige Maschine und deren erwartbare Auswirkungen auf die Gesellschaft vor. \nFrank Papperitz lebt in Pirna und ist Autor u.a. des Buches „Handbuch deutscher Fahrradmarken 1817 bis 1965″. \nHinweis: Fotos zur besseren Betrachtung bitte anklicken! \n	\n		\n							\n						Frank Papperitz mit der Nachfertigung einer Laufmaschine. Foto: privat 		\n			\n	\n		\n							\n						Zeichnung einer Laufmaschine aus den Dresdner „Miscellen“\, einer Beilage des Dresdner Anzeigers vom 18.11.1817 		\n			\n	\n		\n							\n						Nachfertigung einer Laufmaschine. Foto: Frank Papperitz
URL:https://fahrzeugmuseum-chemnitz.de/veranstaltung/vortrag-wie-das-fahrrad-nach-sachsen-kam/
LOCATION:Museum für sächsische Fahrzeuge Chemnitz e.V.\, Zwickauer Straße 77\, Chemnitz\, Sachsen\, 09112\, Deutschland
CATEGORIES:Veranstaltung
ATTACH;FMTTYPE=image/jpeg:https://fahrzeugmuseum-chemnitz.de/wp-content/uploads/2025/10/IMG_20250806_121242_b.jpg
END:VEVENT
END:VCALENDAR